BEGIN:VCALENDAR
VERSION:2.0
PRODID:-//Oak Ridge Village HOA - ECPv6.15.20//NONSGML v1.0//EN
CALSCALE:GREGORIAN
METHOD:PUBLISH
X-WR-CALNAME:Oak Ridge Village HOA
X-ORIGINAL-URL:https://orvhoa.org
X-WR-CALDESC:Events for Oak Ridge Village HOA
REFRESH-INTERVAL;VALUE=DURATION:PT1H
X-Robots-Tag:noindex
X-PUBLISHED-TTL:PT1H
BEGIN:VTIMEZONE
TZID:UTC
BEGIN:STANDARD
TZOFFSETFROM:+0000
TZOFFSETTO:+0000
TZNAME:UTC
DTSTART:20230101T000000
END:STANDARD
END:VTIMEZONE
BEGIN:VEVENT
DTSTART;TZID=UTC:20241026T191500
DTEND;TZID=UTC:20241026T213000
DTSTAMP:20260422T032424
CREATED:20241019T193814Z
LAST-MODIFIED:20241019T193814Z
UID:2446-1729970100-1729978200@orvhoa.org
SUMMARY:HALLOWEEN THEATRE IN THE PARK
DESCRIPTION:On Saturday\, Oct. 26th\, join us for HALLOWEEN THEATRE IN THE PARK\nBring your family out for a fun-filled movie night under the stars.\nEnjoy a family-friendly film\, treats\, and Halloween vibes!\nThe fun starts at 7:15 p.m. \nBring your chairs or blankets\, feel free to wear a costume\, and enjoy popcorn\, candy\, and water provided by your HOA! \nIt’s going to be a WICKED good time\, hope to see you there!
URL:https://orvhoa.org/event/halloween-theatre-in-the-park/
LOCATION:Oak Ridge Village Playground
CATEGORIES:events
END:VEVENT
BEGIN:VEVENT
DTSTART;VALUE=DATE:20241017
DTEND;VALUE=DATE:20241018
DTSTAMP:20260422T032424
CREATED:20241012T203116Z
LAST-MODIFIED:20241012T204508Z
UID:2431-1729123200-1729209599@orvhoa.org
SUMMARY:2024 Annual Meeting
DESCRIPTION:Annual meeting to be held on Thursday\, October 17\, 2024\, at 6:00 PM at the Clubhouse.
URL:https://orvhoa.org/event/2024-annual-meeting/
LOCATION:Oak Ridge Village Clubhouse\, 3902 Tavern Oaks\, San Antonio\, TX\, 78247\, United States
CATEGORIES:events
END:VEVENT
END:VCALENDAR